BEGIN:VCALENDAR
VERSION:2.0
PRODID:-//wp-events-plugin.com//7.2.3.1//EN
TZID:Europe/Paris
X-WR-TIMEZONE:Europe/Paris
BEGIN:VEVENT
UID:47@ornenlutte.fr
DTSTART;TZID=Europe/Paris:20250615T140000
DTEND;TZID=Europe/Paris:20250615T180000
DTSTAMP:20250609T072119Z
URL:https://www.ornenlutte.fr/events/tournoi-de-foot-pour-gaza/
SUMMARY:Tournoi de foot pour Gaza
DESCRIPTION:Le tournoi a lieu pendant la Fête d'Ici et d'ailleurs.\n\nProg
 ramme disponible ici
ATTACH;FMTTYPE=image/jpeg:https://www.ornenlutte.fr/wp-content/uploads/202
 5/06/0CA4650F-88CA-46D7-9C1C-959527B90756.jpg
LOCATION:City Stade Courteille\, Square des pommiers\, Alençon\, 61000\, F
 rance
X-APPLE-STRUCTURED-LOCATION;VALUE=URI;X-ADDRESS=Square des pommiers\, Alen
 çon\, 61000\, France;X-APPLE-RADIUS=100;X-TITLE=City Stade Courteille:geo
 :0,0
END:VEVENT
BEGIN:VTIMEZONE
TZID:Europe/Paris
X-LIC-LOCATION:Europe/Paris
BEGIN:DAYLIGHT
DTSTART:20250330T030000
TZOFFSETFROM:+0100
TZOFFSETTO:+0200
TZNAME:CEST
END:DAYLIGHT
END:VTIMEZONE
END:VCALENDAR