BEGIN:VCALENDAR
VERSION:2.0
PRODID:-//wp-events-plugin.com//7.2.3.1//EN
TZID:Europe/Paris
X-WR-TIMEZONE:Europe/Paris
BEGIN:VEVENT
UID:117@ornenlutte.fr
DTSTART;TZID=Europe/Paris:20251204T200000
DTEND;TZID=Europe/Paris:20251204T200000
DTSTAMP:20251126T061952Z
URL:https://www.ornenlutte.fr/events/table-ronde-palestine-enjeux-et-defis
 -face-a-la-montee-du-racisme-et-de-la-repression/
SUMMARY:Table ronde : Palestine\, enjeux et défis face à la montée du ra
 cisme et de la répression
DESCRIPTION:Entrée gratuite. Ouvert à tous.tes.\n\nNavette gratuite au d
 épart de la place de Perseigne à 19h30 jusqu'au centre d'Alençon.
ATTACH;FMTTYPE=image/jpeg:https://www.ornenlutte.fr/wp-content/uploads/202
 5/11/Table_ronde-4-decembre.png.png
LOCATION:Salle Baudelaire\, 20 rue Porchaine\, Alençon\, 6100\, France
X-APPLE-STRUCTURED-LOCATION;VALUE=URI;X-ADDRESS=20 rue Porchaine\, Alençon
 \, 6100\, France;X-APPLE-RADIUS=100;X-TITLE=Salle Baudelaire:geo:0,0
END:VEVENT
BEGIN:VTIMEZONE
TZID:Europe/Paris
X-LIC-LOCATION:Europe/Paris
BEGIN:STANDARD
DTSTART:20251026T020000
TZOFFSETFROM:+0200
TZOFFSETTO:+0100
TZNAME:CET
END:STANDARD
END:VTIMEZONE
END:VCALENDAR