BEGIN:VCALENDAR
VERSION:2.0
PRODID:-//wp-events-plugin.com//7.2.3.1//EN
TZID:Europe/Paris
X-WR-TIMEZONE:Europe/Paris
BEGIN:VEVENT
UID:155@ornenlutte.fr
DTSTART;TZID=Europe/Paris:20260307T190000
DTEND;TZID=Europe/Paris:20260307T230000
DTSTAMP:20260304T131013Z
URL:https://www.ornenlutte.fr/events/soiree-gauche-unie-alencon/
SUMMARY:Soirée Gauche unie Alençon
DESCRIPTION:La liste Gauche Unie Alençon 2026\, emmenée par Johnny Lafres
 naye et Lydie Buguet\, organise une soirée festive à une semaine du 1er 
 tour des élections municipales.\n\nDe nombreux.ses artistes seront prése
 nt.es à la halle aux toiles tout au long de la soirée : le groupe Patake
 s\, le trio Bim\, la chanteuse Syrine\, Christophe\, le groupe Kerleo\, le
  duo électro Clair / Obscur.\n\nLe buffet\, composé de spécialités lao
 tiennes et turques\, sera à prix libre.\n\nVenez nombreuses et nombreux !
ATTACH;FMTTYPE=image/jpeg:https://www.ornenlutte.fr/wp-content/uploads/202
 6/03/Flyer-07-mars-Soiree-festive_page-0001.jpg
LOCATION:Halle aux Toiles\, Cours Clémenceau\, Alençon\, 61000\, France
X-APPLE-STRUCTURED-LOCATION;VALUE=URI;X-ADDRESS=Cours Clémenceau\, Alenço
 n\, 61000\, France;X-APPLE-RADIUS=100;X-TITLE=Halle aux Toiles:geo:0,0
END:VEVENT
BEGIN:VTIMEZONE
TZID:Europe/Paris
X-LIC-LOCATION:Europe/Paris
BEGIN:STANDARD
DTSTART:20251026T020000
TZOFFSETFROM:+0200
TZOFFSETTO:+0100
TZNAME:CET
END:STANDARD
END:VTIMEZONE
END:VCALENDAR