BEGIN:VCALENDAR
VERSION:2.0
PRODID:-//wp-events-plugin.com//7.2.3.1//EN
TZID:Europe/Paris
X-WR-TIMEZONE:Europe/Paris
BEGIN:VEVENT
UID:175@ornenlutte.fr
DTSTART;TZID=Europe/Paris:20260509T183000
DTEND;TZID=Europe/Paris:20260509T233000
DTSTAMP:20260420T213203Z
URL:https://www.ornenlutte.fr/events/soiree-de-soutien-aux-militants-ecolo
 gistes-de-laffaire-lafarge/
SUMMARY:Soirée de soutien aux militants écologistes de l'affaire Lafarge
DESCRIPTION:Le procès en appel des 4 militant·es écologistes dans l'affa
 ire dite de "Lafarge - Val-de-Reuil" aura lieu le 1er et le 2 juin à Roue
 n. Une grande soirée est organisée à Chapelmêle pour soutenir les cama
 rades\, dont trois sont ornais·es\, à l'approche de leur procès. Ce ser
 a aussi l'occasion de rappeler que l'entreprise Lafarge et ses dirigeants 
 viennent d'être condamnés pour financement du terrorisme et poursuivent 
 leur entreprise de destruction du vivant.\n\nAu programme : des concerts\,
  du cirque\, une projection\, avec la possibilité de manger sur place.\n\
 nOuverture des portes à 18h30.\n\n&nbsp\;\n\n&nbsp\;
ATTACH;FMTTYPE=image/jpeg:https://www.ornenlutte.fr/wp-content/uploads/202
 6/04/Affiche-soiree-soutien-concert-9-mai.jpg
LOCATION:Les Petits Châtelets\, 41\, chemin des châtelets\, Alençon\, 61
 000\, France
X-APPLE-STRUCTURED-LOCATION;VALUE=URI;X-ADDRESS=41\, chemin des châtelets\
 , Alençon\, 61000\, France;X-APPLE-RADIUS=100;X-TITLE=Les Petits Châtele
 ts:geo:0,0
END:VEVENT
BEGIN:VTIMEZONE
TZID:Europe/Paris
X-LIC-LOCATION:Europe/Paris
BEGIN:DAYLIGHT
DTSTART:20260329T030000
TZOFFSETFROM:+0100
TZOFFSETTO:+0200
TZNAME:CEST
END:DAYLIGHT
END:VTIMEZONE
END:VCALENDAR