BEGIN:VCALENDAR
VERSION:2.0
PRODID:-//wp-events-plugin.com//7.2.3.1//EN
TZID:Europe/Paris
X-WR-TIMEZONE:Europe/Paris
BEGIN:VEVENT
UID:123@ornenlutte.fr
DTSTART;TZID=Europe/Paris:20260116T183000
DTEND;TZID=Europe/Paris:20260116T203000
DTSTAMP:20251209T115032Z
URL:https://www.ornenlutte.fr/events/seance-de-luniversite-citoyenne-des-p
 ays-ornais/
SUMMARY:Séance de l'Université citoyenne des pays ornais
DESCRIPTION:Ouvert à tous.tes. Gratuit.\n\nPour la troisième séance de l
 a deuxième saison de l'Université citoyenne des pays ornais\, nous accue
 illerons Benjamin Lemoine\, directeur de recherches au CNRS et grand spéc
 ialiste de la question de la dette publique. La séance aura lieu à l'Esc
 arbille\, bar associatif\, qui nous reçoit pour l'occasion. Elle permet a
 insi de faire vivre en commun sur notre territoire des initiatives de l'ES
 S\, université citoyenne et bar associatif et de les renforcer mutuelleme
 nt. \n\nDans "l'Ordre de la dette"\, Benjamin Lemoine raconte dans ce li
 vre comment\, en France\, l'" ordre de la dette " a été voulu\, construi
 t et organisé par des hommes politiques\, des hauts fonctionnaires et des
  banquiers\, de gauche comme de droite – parmi lesquels François Bloch-
 Lainé\, Charles de Gaulle\, Antoine Pinay\, Valéry Giscard d'Estaing\, M
 ichel Pébereau\, Laurent Fabius\, Lionel Jospin\, Dominique Strauss-Kahn.
 .. Autrement dit\, il fut le fruit d'un choix politique. \nCe livre recons
 titue la généalogie détaillée de ce choix stratégique\, et prend la m
 esure de la grande transformation de l'État dans l'après-guerre. On réa
 lise alors à quel point les nouveaux rapports entre finance privée et fi
 nances publiques sont au cœur des mutations du capitalisme\, dans lequel 
 l'État est devenu un acteur de marché comme les autres\, qui crée et ve
 nd ses produits de dette\, construisant par là sa propre prison. \n\n" Ce
  qui est mis en cause dans ce livre\, c'est l'évidence même de la dette.
  " André Orléan. 
ATTACH;FMTTYPE=image/jpeg:https://www.ornenlutte.fr/wp-content/uploads/202
 5/12/Capture-decran-2025-12-03-a-23.07.09.png
LOCATION:L'escarbille Boissy-Maugis\, 5\, rue du Perche\, Cour Maugis sur H
 uisne\, 6110\, France
X-APPLE-STRUCTURED-LOCATION;VALUE=URI;X-ADDRESS=5\, rue du Perche\, Cour Ma
 ugis sur Huisne\, 6110\, France;X-APPLE-RADIUS=100;X-TITLE=L'escarbille Bo
 issy-Maugis:geo:0,0
END:VEVENT
BEGIN:VTIMEZONE
TZID:Europe/Paris
X-LIC-LOCATION:Europe/Paris
BEGIN:STANDARD
DTSTART:20251026T020000
TZOFFSETFROM:+0200
TZOFFSETTO:+0100
TZNAME:CET
END:STANDARD
END:VTIMEZONE
END:VCALENDAR