BEGIN:VCALENDAR
VERSION:2.0
PRODID:-//wp-events-plugin.com//7.2.3.1//EN
TZID:Europe/Paris
X-WR-TIMEZONE:Europe/Paris
BEGIN:VEVENT
UID:94@ornenlutte.fr
DTSTART;TZID=Europe/Paris:20251015T200000
DTEND;TZID=Europe/Paris:20251015T220000
DTSTAMP:20251008T081413Z
URL:https://www.ornenlutte.fr/events/reunion-publique-face-au-racisme-orga
 niser-la-riposte/
SUMMARY:Réunion publique : face au racisme\, organiser la riposte
DESCRIPTION:Réunion publique avec Hafiza B. Kreje\, membre de la direction
  du NPA et de de la commission antiracisme.
ATTACH;FMTTYPE=image/jpeg:https://www.ornenlutte.fr/wp-content/uploads/202
 5/10/1cefc546-4ae2-44cd-ad29-a9c9fd05ae3f-e1759910490903.jpg
LOCATION:Salle Baudelaire\, 20 rue Porchaine\, Alençon\, 61000\, France
X-APPLE-STRUCTURED-LOCATION;VALUE=URI;X-ADDRESS=20 rue Porchaine\, Alençon
 \, 61000\, France;X-APPLE-RADIUS=100;X-TITLE=Salle Baudelaire:geo:0,0
END:VEVENT
BEGIN:VTIMEZONE
TZID:Europe/Paris
X-LIC-LOCATION:Europe/Paris
BEGIN:DAYLIGHT
DTSTART:20250330T030000
TZOFFSETFROM:+0100
TZOFFSETTO:+0200
TZNAME:CEST
END:DAYLIGHT
END:VTIMEZONE
END:VCALENDAR