BEGIN:VCALENDAR
VERSION:2.0
PRODID:-//wp-events-plugin.com//7.2.3.1//EN
TZID:Europe/Paris
X-WR-TIMEZONE:Europe/Paris
BEGIN:VEVENT
UID:119@ornenlutte.fr
DTSTART;TZID=Europe/Paris:20251211T200000
DTEND;TZID=Europe/Paris:20251211T223000
DTSTAMP:20251202T145639Z
URL:https://www.ornenlutte.fr/events/rencontre-publique-avec-damien-careme
 /
SUMMARY:Rencontre publique avec Damien Carême
DESCRIPTION:Réunion publique sur le thème "Un programme municipal de gauc
 he\, ça fonctionne!"\, avec Damien Carême\, ancien maire de Grande-Synth
 e entre 2001 et 2019.\n\nLa réunion est proposée par la liste Gauche Uni
 e\, dans la perspective des municipales de mars 2026.
ATTACH;FMTTYPE=image/jpeg:https://www.ornenlutte.fr/wp-content/uploads/202
 5/11/Tract_Rencontre_Careme_-_Couleurs_.png
LOCATION:Salle Baudelaire\, 20 rue Porchaine\, Alençon\, 61000\, France
X-APPLE-STRUCTURED-LOCATION;VALUE=URI;X-ADDRESS=20 rue Porchaine\, Alençon
 \, 61000\, France;X-APPLE-RADIUS=100;X-TITLE=Salle Baudelaire:geo:0,0
END:VEVENT
BEGIN:VTIMEZONE
TZID:Europe/Paris
X-LIC-LOCATION:Europe/Paris
BEGIN:STANDARD
DTSTART:20251026T020000
TZOFFSETFROM:+0200
TZOFFSETTO:+0100
TZNAME:CET
END:STANDARD
END:VTIMEZONE
END:VCALENDAR