BEGIN:VCALENDAR
VERSION:2.0
PRODID:-//wp-events-plugin.com//7.2.3.1//EN
TZID:Europe/Paris
X-WR-TIMEZONE:Europe/Paris
BEGIN:VEVENT
UID:114@ornenlutte.fr
DTSTART;TZID=Europe/Paris:20251122T140000
DTEND;TZID=Europe/Paris:20251122T160000
DTSTAMP:20251116T204720Z
URL:https://www.ornenlutte.fr/events/rassemblement-pour-une-palestine-libr
 e/
SUMMARY:Rassemblement pour une Palestine libre
DESCRIPTION:Rassemblement pour une Palestine libre à l'appel d'Urgence Pal
 estine 61.
ATTACH;FMTTYPE=image/jpeg:https://www.ornenlutte.fr/wp-content/uploads/202
 5/11/SAMedi-22-novembre-Rassemblementjpg_Page1.jpg
LOCATION:place de la paix\, Perseigne\, Alençon\, Place de la paix \, Alen
 çon \, 61 000\, France
X-APPLE-STRUCTURED-LOCATION;VALUE=URI;X-ADDRESS=Place de la paix \, Alenço
 n \, 61 000\, France;X-APPLE-RADIUS=100;X-TITLE=place de la paix\, Perseig
 ne\, Alençon:geo:0,0
END:VEVENT
BEGIN:VTIMEZONE
TZID:Europe/Paris
X-LIC-LOCATION:Europe/Paris
BEGIN:STANDARD
DTSTART:20251026T020000
TZOFFSETFROM:+0200
TZOFFSETTO:+0100
TZNAME:CET
END:STANDARD
END:VTIMEZONE
END:VCALENDAR