BEGIN:VCALENDAR
VERSION:2.0
PRODID:-//wp-events-plugin.com//7.2.3.1//EN
TZID:Europe/Paris
X-WR-TIMEZONE:Europe/Paris
BEGIN:VEVENT
UID:65@ornenlutte.fr
DTSTART;TZID=Europe/Paris:20250908T180000
DTEND;TZID=Europe/Paris:20250908T200000
DTSTAMP:20250904T181051Z
URL:https://www.ornenlutte.fr/events/rassemblement-pot-de-depart-de-bayrou
 /
SUMMARY:Rassemblement pot de départ de Bayrou.
DESCRIPTION:
ATTACH;FMTTYPE=image/jpeg:https://www.ornenlutte.fr/wp-content/uploads/202
 5/09/Capture-decran-2025-09-04-201032.jpg
LOCATION:Parvis de la mairie d'Alençon\, Place Foch\, Alençon\, France
X-APPLE-STRUCTURED-LOCATION;VALUE=URI;X-ADDRESS=Place Foch\, Alençon\, Fra
 nce;X-APPLE-RADIUS=100;X-TITLE=Parvis de la mairie d'Alençon:geo:0,0
END:VEVENT
BEGIN:VTIMEZONE
TZID:Europe/Paris
X-LIC-LOCATION:Europe/Paris
BEGIN:DAYLIGHT
DTSTART:20250330T030000
TZOFFSETFROM:+0100
TZOFFSETTO:+0200
TZNAME:CEST
END:DAYLIGHT
END:VTIMEZONE
END:VCALENDAR