BEGIN:VCALENDAR
VERSION:2.0
PRODID:-//wp-events-plugin.com//7.2.3.1//EN
TZID:Europe/Paris
X-WR-TIMEZONE:Europe/Paris
BEGIN:VEVENT
UID:176@ornenlutte.fr
DTSTART;TZID=Europe/Paris:20260501T110000
DTEND;TZID=Europe/Paris:20260501T130000
DTSTAMP:20260424T142212Z
URL:https://www.ornenlutte.fr/events/rassemblement-manifestation-du-1er-ma
 i-a-alencon/
SUMMARY:Rassemblement / Manifestation du 1er mai à Alençon
DESCRIPTION:Rassemblement devant la Préfecture à l'initiative de l'inters
 yndicale\, avec comme mots d'ordre : " Pour la paix\, la solidarité inter
 nationale\, le progrès social et la justice fiscale\, pour une Républiqu
 e sociale et solidaire\, contre toutes les formes d'extrême droite"
ATTACH;FMTTYPE=image/jpeg:https://www.ornenlutte.fr/wp-content/uploads/202
 6/04/1er-mai-2026-Intersyndicale-Orne-defibnitif_page-0001.jpg
LOCATION:Préfecture Alençon\, 39 rue Saint-Blaise\, Alençon\, 61000\, Fr
 ance
X-APPLE-STRUCTURED-LOCATION;VALUE=URI;X-ADDRESS=39 rue Saint-Blaise\, Alen
 çon\, 61000\, France;X-APPLE-RADIUS=100;X-TITLE=Préfecture Alençon:geo:
 0,0
END:VEVENT
BEGIN:VTIMEZONE
TZID:Europe/Paris
X-LIC-LOCATION:Europe/Paris
BEGIN:DAYLIGHT
DTSTART:20260329T030000
TZOFFSETFROM:+0100
TZOFFSETTO:+0200
TZNAME:CEST
END:DAYLIGHT
END:VTIMEZONE
END:VCALENDAR