BEGIN:VCALENDAR
VERSION:2.0
PRODID:-//wp-events-plugin.com//7.2.3.1//EN
TZID:Europe/Paris
X-WR-TIMEZONE:Europe/Paris
BEGIN:VEVENT
UID:178@ornenlutte.fr
DTSTART;TZID=Europe/Paris:20260501T110000
DTEND;TZID=Europe/Paris:20260501T130000
DTSTAMP:20260424T142542Z
URL:https://www.ornenlutte.fr/events/rassemblement-du-1er-mai-a-laigle/
SUMMARY:Rassemblement du 1er mai à L'Aigle
DESCRIPTION:Rassemblement à L'Aigle à l'initiative de l'intersyndicale\, 
 avec comme mots d'ordre : "Pour la paix\, la solidarité internationale\, 
 le progrès social et la justice fiscale\, pour une République sociale et
  solidaire\, contre toutes les formes d'extrême droite"
ATTACH;FMTTYPE=image/jpeg:https://www.ornenlutte.fr/wp-content/uploads/202
 6/04/1er-mai-2026-Intersyndicale-Orne-defibnitif_page-0001-2.jpg
LOCATION:Place de la Poste\, 8 Rue René Vivien\, 61300 L'Aigle\, France\, 
 L'aigle\, 61300\, France
X-APPLE-STRUCTURED-LOCATION;VALUE=URI;X-ADDRESS=8 Rue René Vivien\, 61300 
 L'Aigle\, France\, L'aigle\, 61300\, France;X-APPLE-RADIUS=100;X-TITLE=Pla
 ce de la Poste:geo:0,0
END:VEVENT
BEGIN:VTIMEZONE
TZID:Europe/Paris
X-LIC-LOCATION:Europe/Paris
BEGIN:DAYLIGHT
DTSTART:20260329T030000
TZOFFSETFROM:+0100
TZOFFSETTO:+0200
TZNAME:CEST
END:DAYLIGHT
END:VTIMEZONE
END:VCALENDAR