BEGIN:VCALENDAR
VERSION:2.0
PRODID:-//wp-events-plugin.com//7.2.3.1//EN
TZID:Europe/Paris
X-WR-TIMEZONE:Europe/Paris
BEGIN:VEVENT
UID:179@ornenlutte.fr
DTSTART;TZID=Europe/Paris:20260430T183000
DTEND;TZID=Europe/Paris:20260430T193000
DTSTAMP:20260424T142910Z
URL:https://www.ornenlutte.fr/events/rassemblement-de-soutien-et-conferenc
 e-de-presse/
SUMMARY:Rassemblement de soutien et conférence de presse
DESCRIPTION:En vue du procès en appel des 4 camarades condamné-es en prem
 ière instance dans l’affaire Lafarge Val-de-Rueil\, nous vous invitons 
 à venir apporter un premier soutien aux 3 camarades ornais-es concerné-e
 s à la salle Baudelaire le 30 avril à 18h30. Une conférence de presse y
  sera organisée. Il est important de venir nombreux-ses afin de dénoncer
  la répression gouvernementale sur des militant-es écologistes quand les
  multinationales qui détruisent le monde sont à peine inquiétées.\n\nS
 i vous ne pouvez pas être présent-es\, notez la date du 09 mai pour veni
 r à la soirée de soutien à Chapêle-Mêle\n\n&nbsp\;
ATTACH;FMTTYPE=image/jpeg:https://www.ornenlutte.fr/wp-content/uploads/202
 6/04/Rassemblement-de-soutien-3-pdf.jpg
LOCATION:Salle Delaunay - Espace Pyramide\, 2 Av. de Basingstoke\, 61000 Al
 ençon\, Alençon\, France
X-APPLE-STRUCTURED-LOCATION;VALUE=URI;X-ADDRESS=2 Av. de Basingstoke\, 6100
 0 Alençon\, Alençon\, France;X-APPLE-RADIUS=100;X-TITLE=Salle Delaunay -
  Espace Pyramide:geo:0,0
END:VEVENT
BEGIN:VTIMEZONE
TZID:Europe/Paris
X-LIC-LOCATION:Europe/Paris
BEGIN:DAYLIGHT
DTSTART:20260329T030000
TZOFFSETFROM:+0100
TZOFFSETTO:+0200
TZNAME:CEST
END:DAYLIGHT
END:VTIMEZONE
END:VCALENDAR