BEGIN:VCALENDAR
VERSION:2.0
PRODID:-//wp-events-plugin.com//7.2.3.1//EN
TZID:Europe/Paris
X-WR-TIMEZONE:Europe/Paris
BEGIN:VEVENT
UID:50@ornenlutte.fr
DTSTART;TZID=Europe/Paris:20250611T183000
DTEND;TZID=Europe/Paris:20250611T193000
DTSTAMP:20250609T202146Z
URL:https://www.ornenlutte.fr/events/rassemblement-de-soutien-a-la-flottil
 le-de-la-liberte/
SUMMARY:Rassemblement de soutien à la flottille de la liberté
DESCRIPTION:
ATTACH;FMTTYPE=image/jpeg:https://www.ornenlutte.fr/wp-content/uploads/202
 5/06/1000012783.jpg
LOCATION:Préfecture Alençon\, 39 rue Saint-Blaise\, Alençon\, 61000\, Fr
 ance
X-APPLE-STRUCTURED-LOCATION;VALUE=URI;X-ADDRESS=39 rue Saint-Blaise\, Alen
 çon\, 61000\, France;X-APPLE-RADIUS=100;X-TITLE=Préfecture Alençon:geo:
 0,0
END:VEVENT
BEGIN:VTIMEZONE
TZID:Europe/Paris
X-LIC-LOCATION:Europe/Paris
BEGIN:DAYLIGHT
DTSTART:20250330T030000
TZOFFSETFROM:+0100
TZOFFSETTO:+0200
TZNAME:CEST
END:DAYLIGHT
END:VTIMEZONE
END:VCALENDAR