BEGIN:VCALENDAR
VERSION:2.0
PRODID:-//wp-events-plugin.com//7.2.3.1//EN
TZID:Europe/Paris
X-WR-TIMEZONE:Europe/Paris
BEGIN:VEVENT
UID:99@ornenlutte.fr
DTSTART;TZID=Europe/Paris:20251018T153000
DTEND;TZID=Europe/Paris:20251018T173000
DTSTAMP:20251012T142007Z
URL:https://www.ornenlutte.fr/events/rassemblement-contre-lextreme-droite/
SUMMARY:Rassemblement contre l'extrême-droite
DESCRIPTION:A l'occasion de la réunion publique du RN\, rassemblons-nous e
 t soyons toustes ensemble contre les fascistes\, les racistes\, les mascul
 inistes\, les homophobes\, les transphobes !\n\nRendez-vous à la Halle au
 x toiles à Alençon.\n\nA l'appel de nombreuses organisations (voir flyer
 )
LOCATION:Halle aux Toiles\, Cours Clémenceau\, Alençon\, 61000\, France
X-APPLE-STRUCTURED-LOCATION;VALUE=URI;X-ADDRESS=Cours Clémenceau\, Alenço
 n\, 61000\, France;X-APPLE-RADIUS=100;X-TITLE=Halle aux Toiles:geo:0,0
END:VEVENT
BEGIN:VTIMEZONE
TZID:Europe/Paris
X-LIC-LOCATION:Europe/Paris
BEGIN:DAYLIGHT
DTSTART:20250330T030000
TZOFFSETFROM:+0100
TZOFFSETTO:+0200
TZNAME:CEST
END:DAYLIGHT
END:VTIMEZONE
END:VCALENDAR