BEGIN:VCALENDAR
VERSION:2.0
PRODID:-//wp-events-plugin.com//7.2.3.1//EN
TZID:Europe/Paris
X-WR-TIMEZONE:Europe/Paris
BEGIN:VEVENT
UID:92@ornenlutte.fr
DTSTART;TZID=Europe/Paris:20251012T150000
DTEND;TZID=Europe/Paris:20251012T180000
DTSTAMP:20251006T170719Z
URL:https://www.ornenlutte.fr/events/rassemblement-contre-la-carriere-de-m
 ontreuil-au-houlme/
SUMMARY:Rassemblement contre la carrière de Montreuil-au-Houlme
DESCRIPTION:Rassemblement et manifestation pour s'opposer au projet de carr
 ière de granulat porté par l'entreprise Socaorne. Deux mois après l'arr
 êté préfectoral\, la mobilisation doit s'intensifier !
ATTACH;FMTTYPE=image/jpeg:https://www.ornenlutte.fr/wp-content/uploads/202
 5/10/tract_12_octobre_NON_a_la_carriere-pdf.jpg
LOCATION:Place de l'église\, Eglise Saint-Maurice Le Bourg\, Montreuil-au-
 Houlme\, 61210 \, France
X-APPLE-STRUCTURED-LOCATION;VALUE=URI;X-ADDRESS=Eglise Saint-Maurice Le Bou
 rg\, Montreuil-au-Houlme\, 61210 \, France;X-APPLE-RADIUS=100;X-TITLE=Plac
 e de l'église:geo:0,0
END:VEVENT
BEGIN:VTIMEZONE
TZID:Europe/Paris
X-LIC-LOCATION:Europe/Paris
BEGIN:DAYLIGHT
DTSTART:20250330T030000
TZOFFSETFROM:+0100
TZOFFSETTO:+0200
TZNAME:CEST
END:DAYLIGHT
END:VTIMEZONE
END:VCALENDAR