BEGIN:VCALENDAR
VERSION:2.0
PRODID:-//wp-events-plugin.com//7.2.3.1//EN
TZID:Europe/Paris
X-WR-TIMEZONE:Europe/Paris
BEGIN:VEVENT
UID:66@ornenlutte.fr
DTSTART;TZID=Europe/Paris:20250910T080000
DTEND;TZID=Europe/Paris:20250910T234500
DTSTAMP:20250905T195347Z
URL:https://www.ornenlutte.fr/events/rassemblement-8h-flers-10-sept/
SUMMARY:Rassemblement 8h Flers 10 sept.
DESCRIPTION:Des milliards pour les bombes\, des miettes pour nos vies. Le 1
 0 septembre\, organisons-nous. 8h\, parking Décathlon à Flers.
ATTACH;FMTTYPE=image/jpeg:https://www.ornenlutte.fr/wp-content/uploads/202
 5/09/signal-2025-09-04-19-03-50-190.jpg
LOCATION:Décathlon Flers\, Za Des\, Les Grands Champs\, Flers\,  61100\, F
 rance
X-APPLE-STRUCTURED-LOCATION;VALUE=URI;X-ADDRESS=Za Des\, Les Grands Champs\
 , Flers\,  61100\, France;X-APPLE-RADIUS=100;X-TITLE=Décathlon Flers:geo:
 0,0
END:VEVENT
BEGIN:VTIMEZONE
TZID:Europe/Paris
X-LIC-LOCATION:Europe/Paris
BEGIN:DAYLIGHT
DTSTART:20250330T030000
TZOFFSETFROM:+0100
TZOFFSETTO:+0200
TZNAME:CEST
END:DAYLIGHT
END:VTIMEZONE
END:VCALENDAR