BEGIN:VCALENDAR
VERSION:2.0
PRODID:-//wp-events-plugin.com//7.2.3.1//EN
TZID:Europe/Paris
X-WR-TIMEZONE:Europe/Paris
BEGIN:VEVENT
UID:62@ornenlutte.fr
DTSTART;TZID=Europe/Paris:20251002T203000
DTEND;TZID=Europe/Paris:20251002T230000
DTSTAMP:20250928T194046Z
URL:https://www.ornenlutte.fr/events/projection-le-vivant-qui-se-defend/
SUMMARY:Projection "Le Vivant qui se Défend"
DESCRIPTION:\nLe cinéma associatif Le Rex de Sées vous propose une séanc
 e de : Le Vivant qui se Défend de Vincent Verzat.\n\n\nLe cinéma Le Rex\
 , c'est 207 places dont 5 accessibles PMR.\n\nLe ciné-débat sera animé 
 par le Comité des Soulèvements de la Terre et l'Association découverte 
 de la nature. Débat notamment autour d'un projet de carrière en zone nat
 ura 2000 à Montreuil au Houlme (Orne)\, contre lequel une pétition a ét
 é lancée.
ATTACH;FMTTYPE=image/jpeg:https://www.ornenlutte.fr/wp-content/uploads/202
 5/09/Affiche-Le-vivant-qui-se-defend.jpeg
LOCATION:Cinéma le Rex\, 5 rue Charles Forget\, SEES\, 61500\, France
X-APPLE-STRUCTURED-LOCATION;VALUE=URI;X-ADDRESS=5 rue Charles Forget\, SEES
 \, 61500\, France;X-APPLE-RADIUS=100;X-TITLE=Cinéma le Rex:geo:0,0
END:VEVENT
BEGIN:VTIMEZONE
TZID:Europe/Paris
X-LIC-LOCATION:Europe/Paris
BEGIN:DAYLIGHT
DTSTART:20250330T030000
TZOFFSETFROM:+0100
TZOFFSETTO:+0200
TZNAME:CEST
END:DAYLIGHT
END:VTIMEZONE
END:VCALENDAR