BEGIN:VCALENDAR
VERSION:2.0
PRODID:-//wp-events-plugin.com//7.2.3.1//EN
TZID:Europe/Paris
X-WR-TIMEZONE:Europe/Paris
BEGIN:VEVENT
UID:42@ornenlutte.fr
DTSTART;TZID=Europe/Paris:20250606T200000
DTEND;TZID=Europe/Paris:20250606T230000
DTSTAMP:20250528T185318Z
URL:https://www.ornenlutte.fr/events/projection-en-hommage-a-la-lutte-pale
 stinienne/
SUMMARY:Projection en hommage à la lutte palestinienne
DESCRIPTION:Venez regarder avec nous le film Fedayin\, le combat de Georges
  Abdallah - réalisé par le collectif Vacarme\n\n&nbsp\;
ATTACH;FMTTYPE=image/jpeg:https://www.ornenlutte.fr/wp-content/uploads/202
 5/05/signal-2025-05-28-20-39-17-909.jpg
LOCATION:Salle du Pont Féron\, Rue Jules Verne\, Flers\, 61100\, France
X-APPLE-STRUCTURED-LOCATION;VALUE=URI;X-ADDRESS=Rue Jules Verne\, Flers\, 6
 1100\, France;X-APPLE-RADIUS=100;X-TITLE=Salle du Pont Féron:geo:0,0
END:VEVENT
BEGIN:VTIMEZONE
TZID:Europe/Paris
X-LIC-LOCATION:Europe/Paris
BEGIN:DAYLIGHT
DTSTART:20250330T030000
TZOFFSETFROM:+0100
TZOFFSETTO:+0200
TZNAME:CEST
END:DAYLIGHT
END:VTIMEZONE
END:VCALENDAR