BEGIN:VCALENDAR
VERSION:2.0
PRODID:-//wp-events-plugin.com//7.2.3.1//EN
TZID:Europe/Paris
X-WR-TIMEZONE:Europe/Paris
BEGIN:VEVENT
UID:61@ornenlutte.fr
DTSTART;TZID=Europe/Paris:20250923T203000
DTEND;TZID=Europe/Paris:20250923T230000
DTSTAMP:20250903T104223Z
URL:https://www.ornenlutte.fr/events/projection-discussion-film-docu-le-vi
 vant-qui-se-defend-de-vincent-verzat/
SUMMARY:Projection-discussion film docu "Le vivant qui se défend" de Vince
 nt Verzat
DESCRIPTION:Projection du film documentaire "Le vivant qui se défend"\, r
 éalisé par Vincent Verzat\, suivie d'une discussion animée par différe
 ntes associations du territoire (Yapuka\, Ciné-cité\, Collectif 924\, et
 c.)\n\nEntrée : 5€\n\nSynopsis du film :\nVincent Verzat filme les mobi
 lisations écologiques depuis 10 ans sur la chaîne YouTube Partager c’e
 st Sympa (310k abonné·es). Partant d’un récit personnel et sensible\,
  le film “Le VIVANT qui se défend” retrace son cheminement entre mili
 tantisme et naturalisme\, sa recherche d’un équilibre entre combat et c
 ontemplation\, traçant un chemin pour vivre dignement et affronter ce qui
  vient. Des luttes forestières du plateau des Millevaches à la tanière 
 d’une famille de blaireaux\, en passant par les méga bassines du Poitou
 \, les cerfs du Vercors et l’autoroute A69\, “Le VIVANT qui se défend
 ” fait le lien entre les animaux sauvages et les luttes qui sont menées
  partout en France contre la destruction de leurs habitats. Le film trace 
 un chemin pour vivre dignement et affronter ce qui vient.
ATTACH;FMTTYPE=image/jpeg:https://www.ornenlutte.fr/wp-content/uploads/202
 5/09/Affiche-v2-1-A4.jpg
LOCATION:Planet-Ciné\, 194 rue de Bretagne\, Alençon\, 61000\, France
X-APPLE-STRUCTURED-LOCATION;VALUE=URI;X-ADDRESS=194 rue de Bretagne\, Alen
 çon\, 61000\, France;X-APPLE-RADIUS=100;X-TITLE=Planet-Ciné:geo:0,0
END:VEVENT
BEGIN:VTIMEZONE
TZID:Europe/Paris
X-LIC-LOCATION:Europe/Paris
BEGIN:DAYLIGHT
DTSTART:20250330T030000
TZOFFSETFROM:+0100
TZOFFSETTO:+0200
TZNAME:CEST
END:DAYLIGHT
END:VTIMEZONE
END:VCALENDAR