BEGIN:VCALENDAR
VERSION:2.0
PRODID:-//wp-events-plugin.com//7.2.3.1//EN
TZID:Europe/Paris
X-WR-TIMEZONE:Europe/Paris
BEGIN:VEVENT
UID:44@ornenlutte.fr
DTSTART;TZID=Europe/Paris:20250620T203000
DTEND;TZID=Europe/Paris:20250620T230000
DTSTAMP:20250604T102700Z
URL:https://www.ornenlutte.fr/events/projection-debat-un-medecin-pour-la-p
 aix-association-france-palestine-solidarite/
SUMMARY:Projection - Débat "Un médecin pour la paix" - Association France
  Palestine Solidarité
DESCRIPTION:UN MÉDECIN POUR LA PAIX\n\nCanada / France | 2024 | 1h32 | Cou
 leur\n\nUn film de Tal BARDA\n\nAvec Dr. Izzeldin ABUELAISH\n\nD’après
  le livre "I SHALL NOT HATE" ("JE NE HAÏRAI POINT")\ndu Professeur Dr Izz
 eldin ABUELAISH\n\nUn puissant témoignage de tolérance\, de courage\, d'
 espoir et de résilience de la part\n\nd'un homme dont le message de réco
 nciliation n'a jamais été aussi urgent et inspirant\n\nDate de sortie :
  23 Avril 2025\n\nSynopsis : \n\nIzzeldin Abuelaish\, premier médecin p
 alestinien à travailler dans un hôpital israélien\, voit sa maison bomb
 ardée en 2009\, tuant trois de ses filles et une nièce. Malgré cette tr
 agédie\, il trouve la force de parler d'espoir et de réconciliation. Exi
 lé depuis au Canada\, il milite sans relâche pour la paix entre Israël 
 et la Palestine\, ce qui lui vaudra d’être nominé cinq fois pour le Pr
 ix Nobel de la Paix.
ATTACH;FMTTYPE=image/jpeg:https://www.ornenlutte.fr/wp-content/uploads/202
 5/06/AFFICHE_UN-MEDECIN-POUR-LA-PAIX_120x160_PART-scaled.jpg
LOCATION:Planet'Ciné\, 194 Rue de Bretagne\, Alençon\, 61000\, France
X-APPLE-STRUCTURED-LOCATION;VALUE=URI;X-ADDRESS=194 Rue de Bretagne\, Alen
 çon\, 61000\, France;X-APPLE-RADIUS=100;X-TITLE=Planet'Ciné:geo:0,0
END:VEVENT
BEGIN:VTIMEZONE
TZID:Europe/Paris
X-LIC-LOCATION:Europe/Paris
BEGIN:DAYLIGHT
DTSTART:20250330T030000
TZOFFSETFROM:+0100
TZOFFSETTO:+0200
TZNAME:CEST
END:DAYLIGHT
END:VTIMEZONE
END:VCALENDAR