BEGIN:VCALENDAR
VERSION:2.0
PRODID:-//wp-events-plugin.com//7.2.3.1//EN
TZID:Europe/Paris
X-WR-TIMEZONE:Europe/Paris
BEGIN:VEVENT
UID:97@ornenlutte.fr
DTSTART;TZID=Europe/Paris:20251106T203000
DTEND;TZID=Europe/Paris:20251106T230000
DTSTAMP:20251101T115710Z
URL:https://www.ornenlutte.fr/events/mois-du-doc-cine-rencontre-levangile-
 de-la-revolution/
SUMMARY:Mois du Doc - Ciné rencontre : l'Évangile de la Révolution
DESCRIPTION:Tarif cinéma.\n\nSynopsis : "Le souffle révolutionnaire qu’
 a connu l’Amérique latine au XX siècle doit beaucoup à la participati
 on de millions de chrétiens\, engagés dans les luttes politiques au nom 
 de leur foi. Portés par la théologie de la libération\, ils ont défié
  les régimes militaires et les oligarchies au péril de leur vie. À rebo
 urs de l’idée de la religion comme opium du peuple\, le film part à la
  rencontre d’hommes et de femmes qui ont cru voir dans la révolution l
 ’avènement du Royaume de Dieu\, sur la terre plutôt qu’au ciel."\n\n
 La projection sera suivie d'un échange avec Cédric Lépine. Diplômé e
 n anthropologie\, Cédric Lépine se dédie à la rédaction d'articles su
 r le cinéma depuis 2006 notamment sur son blog personnel sur Mediapart av
 ec deux éditions consacrées l'une aux cinémas d'Amérique latine et l'a
 utre aux cinémas du Maghreb et du Moyen-Orient.\n\nAvec le soutien de l
 ’ADRC\, Agence nationale pour le développement du cinéma en régions.\
 n\nCette projection s'inscrit dans le cadre du Mois du Doc pendant lequel 
 le Cinéma le Rex de Sées vous propose quatre projections de documentair
 e avec intervenant.es.\n\nPlaces disponibles pour les personnes à mobilit
 é réduite au premier rang.
ATTACH;FMTTYPE=image/jpeg:https://www.ornenlutte.fr/wp-content/uploads/202
 5/10/2.png
LOCATION:Cinéma le Rex\, 5 rue Charles Forget\, SEES\, 61500\, France
X-APPLE-STRUCTURED-LOCATION;VALUE=URI;X-ADDRESS=5 rue Charles Forget\, SEES
 \, 61500\, France;X-APPLE-RADIUS=100;X-TITLE=Cinéma le Rex:geo:0,0
END:VEVENT
BEGIN:VTIMEZONE
TZID:Europe/Paris
X-LIC-LOCATION:Europe/Paris
BEGIN:STANDARD
DTSTART:20251026T020000
TZOFFSETFROM:+0200
TZOFFSETTO:+0100
TZNAME:CET
END:STANDARD
END:VTIMEZONE
END:VCALENDAR