BEGIN:VCALENDAR
VERSION:2.0
PRODID:-//wp-events-plugin.com//7.2.3.1//EN
TZID:Europe/Paris
X-WR-TIMEZONE:Europe/Paris
BEGIN:VEVENT
UID:4@ornenlutte.fr
DTSTART;TZID=Europe/Paris:20250614T140000
DTEND;TZID=Europe/Paris:20250614T234500
DTSTAMP:20250331T110625Z
URL:https://www.ornenlutte.fr/events/marche-des-fiertes/
SUMMARY:Marche Des Fiertés
DESCRIPTION:14 h : Ouverture au Parc de la Providence\n\n15h : Départ de l
 a marche\n\n17h : Retour de la marche et début des festivités (bar\, sho
 ws\, DJ\, concerts\, restaurants\, village asso\n\n22h: After....
ATTACH;FMTTYPE=image/jpeg:https://www.ornenlutte.fr/wp-content/uploads/202
 5/03/2025-03-14-marche-des-fiertes-2025.webp
LOCATION:Parc de la Providence\, 13 rue de l'Abreuvoir\, Alençon\, 61500\,
  France
X-APPLE-STRUCTURED-LOCATION;VALUE=URI;X-ADDRESS=13 rue de l'Abreuvoir\, Ale
 nçon\, 61500\, France;X-APPLE-RADIUS=100;X-TITLE=Parc de la Providence:ge
 o:0,0
END:VEVENT
BEGIN:VTIMEZONE
TZID:Europe/Paris
X-LIC-LOCATION:Europe/Paris
BEGIN:DAYLIGHT
DTSTART:20250330T030000
TZOFFSETFROM:+0100
TZOFFSETTO:+0200
TZNAME:CEST
END:DAYLIGHT
END:VTIMEZONE
END:VCALENDAR