BEGIN:VCALENDAR
VERSION:2.0
PRODID:-//wp-events-plugin.com//7.2.3.1//EN
TZID:Europe/Paris
X-WR-TIMEZONE:Europe/Paris
BEGIN:VEVENT
UID:3@ornenlutte.fr
DTSTART;TZID=Europe/Paris:20250501T110000
DTEND;TZID=Europe/Paris:20250501T130000
DTSTAMP:20250425T090540Z
URL:https://www.ornenlutte.fr/events/manifestation-du-1er-mai-2025/
SUMMARY:Manifestation du 1er mai 2025
DESCRIPTION:11h00 :  manifestation départementale du 1er mai à 11H00 - P
 réfecture d’Alençon\n\n9h30 : Argentan\, rassemblement place Leclerc\,
  puis co-voiturage pour Alençon\n
ATTACH;FMTTYPE=image/jpeg:https://www.ornenlutte.fr/wp-content/uploads/202
 5/03/Tract-1ER-MAI-2025-intersyndicale-departementale-Orne-pdf.jpg
LOCATION:Préfecture Alençon\, 39 rue Saint-Blaise\, Alençon\, 61000\, Fr
 ance
X-APPLE-STRUCTURED-LOCATION;VALUE=URI;X-ADDRESS=39 rue Saint-Blaise\, Alen
 çon\, 61000\, France;X-APPLE-RADIUS=100;X-TITLE=Préfecture Alençon:geo:
 0,0
END:VEVENT
BEGIN:VTIMEZONE
TZID:Europe/Paris
X-LIC-LOCATION:Europe/Paris
BEGIN:DAYLIGHT
DTSTART:20250330T030000
TZOFFSETFROM:+0100
TZOFFSETTO:+0200
TZNAME:CEST
END:DAYLIGHT
END:VTIMEZONE
END:VCALENDAR