BEGIN:VCALENDAR
VERSION:2.0
PRODID:-//wp-events-plugin.com//7.2.3.1//EN
TZID:Europe/Paris
X-WR-TIMEZONE:Europe/Paris
BEGIN:VEVENT
UID:87@ornenlutte.fr
DTSTART;TZID=Europe/Paris:20251002T103000
DTEND;TZID=Europe/Paris:20251002T140000
DTSTAMP:20250929T200504Z
URL:https://www.ornenlutte.fr/events/manifestation-alencon/
SUMMARY:Manifestation Alençon
DESCRIPTION:Dans le prolongement de la manifestation du 18 septembre\, l'in
 tersyndicale appelle à une nouvelle grande journée de mobilisation. Les 
 mots d'ordre : NON à un nouveau projet de budget austéritaire\, OUI à u
 ne véritable justice sociale et fiscale !
ATTACH;FMTTYPE=image/jpeg:https://www.ornenlutte.fr/wp-content/uploads/202
 5/09/projet-Tract-intersyndicale-2-octobre_page-0001.jpg
LOCATION:Préfecture Alençon\, 39 rue Saint-Blaise\, Alençon\, 61000\, Fr
 ance
X-APPLE-STRUCTURED-LOCATION;VALUE=URI;X-ADDRESS=39 rue Saint-Blaise\, Alen
 çon\, 61000\, France;X-APPLE-RADIUS=100;X-TITLE=Préfecture Alençon:geo:
 0,0
END:VEVENT
BEGIN:VTIMEZONE
TZID:Europe/Paris
X-LIC-LOCATION:Europe/Paris
BEGIN:DAYLIGHT
DTSTART:20250330T030000
TZOFFSETFROM:+0100
TZOFFSETTO:+0200
TZNAME:CEST
END:DAYLIGHT
END:VTIMEZONE
END:VCALENDAR