BEGIN:VCALENDAR
VERSION:2.0
PRODID:-//wp-events-plugin.com//7.2.3.1//EN
TZID:Europe/Paris
X-WR-TIMEZONE:Europe/Paris
BEGIN:VEVENT
UID:59@ornenlutte.fr
DTSTART;TZID=Europe/Paris:20250630T180000
DTEND;TZID=Europe/Paris:20250630T200000
DTSTAMP:20250630T101332Z
URL:https://www.ornenlutte.fr/events/manif-contre-la-loi-duplomb/
SUMMARY:Manif contre la Loi Duplomb
DESCRIPTION:Projet de loi agricole «Duplomb »:\nPlus de chimie\, plus d
 ’agriculture intensive\, moins de protection de la santé et de l’envi
 ronnement !!!\nLe projet permettrait d utiliser des neonicotinoides danger
 eux\, de réduire l’autorité de l’Agence sanitaire (ANSES)\, de déve
 lopper les megabassines etc… \n\nQuelques slogans : « nourrir pas détr
 uire ! »\n« Les abeilles ont Duplomb dans l’aile » etc\n
ATTACH;FMTTYPE=image/jpeg:https://www.ornenlutte.fr/wp-content/uploads/202
 5/06/511193740_1039713678273003_2214317909533704673_n.jpg
LOCATION:Place Boislandry\, Place Boislandry\, L'Aigle\, 61300\, France
X-APPLE-STRUCTURED-LOCATION;VALUE=URI;X-ADDRESS=Place Boislandry\, L'Aigle\
 , 61300\, France;X-APPLE-RADIUS=100;X-TITLE=Place Boislandry:geo:0,0
END:VEVENT
BEGIN:VTIMEZONE
TZID:Europe/Paris
X-LIC-LOCATION:Europe/Paris
BEGIN:DAYLIGHT
DTSTART:20250330T030000
TZOFFSETFROM:+0100
TZOFFSETTO:+0200
TZNAME:CEST
END:DAYLIGHT
END:VTIMEZONE
END:VCALENDAR