BEGIN:VCALENDAR
VERSION:2.0
PRODID:-//wp-events-plugin.com//7.2.3.1//EN
TZID:Europe/Paris
X-WR-TIMEZONE:Europe/Paris
BEGIN:VEVENT
UID:63@ornenlutte.fr
DTSTART;TZID=Europe/Paris:20250910T173000
DTEND;TZID=Europe/Paris:20250910T234500
DTSTAMP:20250903T065630Z
URL:https://www.ornenlutte.fr/events/laigle-10-septembre-manif-greve/
SUMMARY:L'aigle - 10 septembre - Manif + grève
DESCRIPTION:Appel à la grève le 10 septembre de la CGT à l'Aigle et de l
 a FSU.\n\n17h30\, place de La Poste. Plus d'infos dans le tract joint.
ATTACH;FMTTYPE=image/jpeg:https://www.ornenlutte.fr/wp-content/uploads/202
 5/09/Manif-10-sept-Laigle.jpeg
LOCATION:Place de la Poste\, 8 Rue René Vivien\, 61300 L'Aigle\, France\, 
 L'aigle\, 61300\, France
X-APPLE-STRUCTURED-LOCATION;VALUE=URI;X-ADDRESS=8 Rue René Vivien\, 61300 
 L'Aigle\, France\, L'aigle\, 61300\, France;X-APPLE-RADIUS=100;X-TITLE=Pla
 ce de la Poste:geo:0,0
END:VEVENT
BEGIN:VTIMEZONE
TZID:Europe/Paris
X-LIC-LOCATION:Europe/Paris
BEGIN:DAYLIGHT
DTSTART:20250330T030000
TZOFFSETFROM:+0100
TZOFFSETTO:+0200
TZNAME:CEST
END:DAYLIGHT
END:VTIMEZONE
END:VCALENDAR