BEGIN:VCALENDAR
VERSION:2.0
PRODID:-//wp-events-plugin.com//7.2.3.1//EN
TZID:Europe/Paris
X-WR-TIMEZONE:Europe/Paris
BEGIN:VEVENT
UID:115@ornenlutte.fr
DTSTART;TZID=Europe/Paris:20251202T113000
DTEND;TZID=Europe/Paris:20251202T130000
DTSTAMP:20251119T185556Z
URL:https://www.ornenlutte.fr/events/greve-rassemblement-et-manifestation/
SUMMARY:Grève\, rassemblement et manifestation
DESCRIPTION:Dans le cadre de la journée de mobilisation syndicale\, SOLIDA
 IRES\, CGT et FSU organisent un rassemblement et une manifestation\n\nmard
 i 2 décembre à 11h30 devant la Préfecture d'Alençon\n\nLe 2 décembre 
 toutes et tous mobilisé·es contre l’austérité et pour nos salaires
ATTACH;FMTTYPE=image/jpeg:https://www.ornenlutte.fr/wp-content/uploads/202
 5/11/20251106_Le_2_decembre_toutes_et_tous_mobilisees_contre_lausterite_et
 _pour_nos_44KafPk-pdf.jpg
LOCATION:Préfecture Alençon\, 39 rue Saint-Blaise\, Alençon\, 61000\, Fr
 ance
X-APPLE-STRUCTURED-LOCATION;VALUE=URI;X-ADDRESS=39 rue Saint-Blaise\, Alen
 çon\, 61000\, France;X-APPLE-RADIUS=100;X-TITLE=Préfecture Alençon:geo:
 0,0
END:VEVENT
BEGIN:VTIMEZONE
TZID:Europe/Paris
X-LIC-LOCATION:Europe/Paris
BEGIN:STANDARD
DTSTART:20251026T020000
TZOFFSETFROM:+0200
TZOFFSETTO:+0100
TZNAME:CET
END:STANDARD
END:VTIMEZONE
END:VCALENDAR