BEGIN:VCALENDAR
VERSION:2.0
PRODID:-//wp-events-plugin.com//7.2.3.1//EN
TZID:Europe/Paris
X-WR-TIMEZONE:Europe/Paris
BEGIN:VEVENT
UID:100@ornenlutte.fr
DTSTART;TZID=Europe/Paris:20251115T093000
DTEND;TZID=Europe/Paris:20251115T163000
DTSTAMP:20251020T074928Z
URL:https://www.ornenlutte.fr/events/formation-lutte-contre-la-grossophobi
 e/
SUMMARY:Formation "Lutte contre la grossophobie"
DESCRIPTION:\nFormation Planning Familial de l'Orne\n\n\n\nFormation gratui
 te (subvention FDVA)\nCette formation s'adresse aux bénévoles d'associat
 ions (sportives\, culturelles\, artistiques\, loisirs\, sociales etc.).\n\
 n\n\n\nObjectifs :\n- Comprendre les mécanismes et les origines de la gro
 ssophobie\n- Identifier ses manifestations dans les sphères sociales\, pr
 ofessionnelles et personnelles\n- Favoriser un langage et des comportement
 s respectueux et inclusifs\n- Développer des outils pour prévenir et com
 battre la grossophobie dans son environnement.\n\n\n\nInfos et inscription
 s :\n06.82.23.15.44\n&nbsp\;\n\nAccessible PMR \n\n
ATTACH;FMTTYPE=image/jpeg:https://www.ornenlutte.fr/wp-content/uploads/202
 5/10/affiche-formation-grossophobie.jpg
LOCATION:Maison des Initiatives Citoyennes de Courteille\, Rue Edouard Bran
 ly\, Alençon\, 61000 \, France
X-APPLE-STRUCTURED-LOCATION;VALUE=URI;X-ADDRESS=Rue Edouard Branly\, Alenç
 on\, 61000 \, France;X-APPLE-RADIUS=100;X-TITLE=Maison des Initiatives Cit
 oyennes de Courteille:geo:0,0
END:VEVENT
BEGIN:VTIMEZONE
TZID:Europe/Paris
X-LIC-LOCATION:Europe/Paris
BEGIN:STANDARD
DTSTART:20251026T020000
TZOFFSETFROM:+0200
TZOFFSETTO:+0100
TZNAME:CET
END:STANDARD
END:VTIMEZONE
END:VCALENDAR