BEGIN:VCALENDAR
VERSION:2.0
PRODID:-//wp-events-plugin.com//7.2.3.1//EN
TZID:Europe/Paris
X-WR-TIMEZONE:Europe/Paris
BEGIN:VEVENT
UID:174@ornenlutte.fr
DTSTART;TZID=Europe/Paris:20260620T093000
DTEND;TZID=Europe/Paris:20260620T163000
DTSTAMP:20260421T165114Z
URL:https://www.ornenlutte.fr/events/formation-comprendre-les-thematiques-
 lgbtqia/
SUMMARY:FORMATION - Comprendre les thématiques LGBTQIA+
DESCRIPTION:\n\n\nCette formation s'adresse en priorité aux bénévoles d'
 associations (sportives\, culturelles\, artistiques\, loisirs\, sociales\,
  etc) et est prise en charge par le Fonds de développement de la vie asso
 ciative (FDVA).\nElle est donc gratuite avec une prise en charge du repas 
 du midi sur place.\n\nCette journée de sensibilisation sera organisée pa
 r le Planning Familial de l'Orne et sera animée par les associations Orn'
 en Ciel et Homogène.\n\nLes objectifs de cette journée seront :\n- Abord
 er les questions LGBTQIA+ de manière générale.\n- Clarifier les notions
  et définitions et actualiser ses connaissances.\n- Comprendre ce que son
 t les LGBTphobies.\n- Approfondir la question de la transidentité.\n\n\n\
 nLieu accessible PMR\n\n\n\nInfos et inscriptions :\n06.82.23.15.44\n
ATTACH;FMTTYPE=image/jpeg:https://www.ornenlutte.fr/wp-content/uploads/202
 6/04/affiche-formation-lgbtqia.jpg
LOCATION:Maison de la Vie Associative\, MVA 25 rue Demées\, Alençon\, 610
 00\, France
X-APPLE-STRUCTURED-LOCATION;VALUE=URI;X-ADDRESS=MVA 25 rue Demées\, Alenç
 on\, 61000\, France;X-APPLE-RADIUS=100;X-TITLE=Maison de la Vie Associativ
 e:geo:0,0
END:VEVENT
BEGIN:VTIMEZONE
TZID:Europe/Paris
X-LIC-LOCATION:Europe/Paris
BEGIN:DAYLIGHT
DTSTART:20260329T030000
TZOFFSETFROM:+0100
TZOFFSETTO:+0200
TZNAME:CEST
END:DAYLIGHT
END:VTIMEZONE
END:VCALENDAR