BEGIN:VCALENDAR
VERSION:2.0
PRODID:-//wp-events-plugin.com//7.2.3.1//EN
TZID:Europe/Paris
X-WR-TIMEZONE:Europe/Paris
BEGIN:VEVENT
UID:52@ornenlutte.fr
DTSTART;TZID=Europe/Paris:20250615T123000
DTEND;TZID=Europe/Paris:20250615T180000
DTSTAMP:20250611T061816Z
URL:https://www.ornenlutte.fr/events/fete-dici-et-dailleurs/
SUMMARY:Fête d'Ici et d'Ailleurs
DESCRIPTION:Fête interculturelle organisée par un collectif d'association
 s militantes et de personnes d'origines diverses.\n\nA partir de 12h30\, r
 estauration sur place.\n\nDans le cadre de la fête d'ici et d'ailleurs ay
 ant lieu le 14 et 15 juin 2025. Programme disponible ici.
ATTACH;FMTTYPE=image/jpeg:https://www.ornenlutte.fr/wp-content/uploads/202
 5/06/FIA-Programme2025_WEBjpg_Page1.jpg
LOCATION:ALENçON\, Square des Pommiers - Quartier de Courteille\, Alençon
 \, 61000\, France
X-APPLE-STRUCTURED-LOCATION;VALUE=URI;X-ADDRESS=Square des Pommiers - Quart
 ier de Courteille\, Alençon\, 61000\, France;X-APPLE-RADIUS=100;X-TITLE=A
 LENçON:geo:0,0
END:VEVENT
BEGIN:VTIMEZONE
TZID:Europe/Paris
X-LIC-LOCATION:Europe/Paris
BEGIN:DAYLIGHT
DTSTART:20250330T030000
TZOFFSETFROM:+0100
TZOFFSETTO:+0200
TZNAME:CEST
END:DAYLIGHT
END:VTIMEZONE
END:VCALENDAR