BEGIN:VCALENDAR
VERSION:2.0
PRODID:-//wp-events-plugin.com//7.2.3.1//EN
TZID:Europe/Paris
X-WR-TIMEZONE:Europe/Paris
BEGIN:VEVENT
UID:68@ornenlutte.fr
DTSTART;TZID=Europe/Paris:20250927T120000
DTEND;TZID=Europe/Paris:20250927T160000
DTSTAMP:20250909T104639Z
URL:https://www.ornenlutte.fr/events/evenement-festif-solidaire-resf-61/
SUMMARY:Evènement festif solidaire RESF 61
DESCRIPTION:Repas festif : 10 € minimum - Inscription avant le 26 septemb
 re au 06 83 76 69 87 ou 06 87 03 61 29 ou nadettelvq@gmail.com ou briere.f
 rancine61@orange.fr\n\nRESF 61 soutient par des actions et accompagnements
  des jeunes\, enfants et adultes\, exilé.es pour garantir une application
  des droits de l'enfant\, de la femme et de l'homme (aides d'urgence\, soi
 ns\, scolarité).\n\nCagnotte : tous les dons et fonds seront intégraleme
 nt reversés à RESF61
ATTACH;FMTTYPE=image/jpeg:https://www.ornenlutte.fr/wp-content/uploads/202
 5/09/7bMaDX6su2dbHl446EptoJq3p7AQAjaw5oxExkb8.jpg
LOCATION:chapêlmêle\, 41 chemin des châtelets\, Alençon\, 61000\, Franc
 e
X-APPLE-STRUCTURED-LOCATION;VALUE=URI;X-ADDRESS=41 chemin des châtelets\, 
 Alençon\, 61000\, France;X-APPLE-RADIUS=100;X-TITLE=chapêlmêle:geo:0,0
END:VEVENT
BEGIN:VTIMEZONE
TZID:Europe/Paris
X-LIC-LOCATION:Europe/Paris
BEGIN:DAYLIGHT
DTSTART:20250330T030000
TZOFFSETFROM:+0100
TZOFFSETTO:+0200
TZNAME:CEST
END:DAYLIGHT
END:VTIMEZONE
END:VCALENDAR