BEGIN:VCALENDAR
VERSION:2.0
PRODID:-//wp-events-plugin.com//7.2.3.1//EN
TZID:Europe/Paris
X-WR-TIMEZONE:Europe/Paris
BEGIN:VEVENT
UID:90@ornenlutte.fr
DTSTART;TZID=Europe/Paris:20251011T101500
DTEND;TZID=Europe/Paris:20251011T113000
DTSTAMP:20251005T101604Z
URL:https://www.ornenlutte.fr/events/defendons-les-associations/
SUMMARY:Défendons les associations
DESCRIPTION:Rassemblement à l'appel du Mouvement Associatif\, mobilisation
  nationale "ça ne tient plus" pour dénoncer l'attaque actuel contre le m
 onde associatif via les baisses de financement en autres et alors que les 
 associations :\n\n 	changent concrètement la vie des gens\n 	offrent du p
 ouvoir d’agir et renforcent les liens sociaux\n 	sont un remède à la c
 rise démocratique que nous traversons\n
ATTACH;FMTTYPE=image/jpeg:https://www.ornenlutte.fr/wp-content/uploads/202
 5/10/IMG_2924.jpeg
LOCATION:place de la magdeleine\, place de la magdeleine \, alençon \, 610
 00\, France
X-APPLE-STRUCTURED-LOCATION;VALUE=URI;X-ADDRESS=place de la magdeleine \, a
 lençon \, 61000\, France;X-APPLE-RADIUS=100;X-TITLE=place de la magdelein
 e:geo:0,0
END:VEVENT
BEGIN:VTIMEZONE
TZID:Europe/Paris
X-LIC-LOCATION:Europe/Paris
BEGIN:DAYLIGHT
DTSTART:20250330T030000
TZOFFSETFROM:+0100
TZOFFSETTO:+0200
TZNAME:CEST
END:DAYLIGHT
END:VTIMEZONE
END:VCALENDAR