BEGIN:VCALENDAR
VERSION:2.0
PRODID:-//wp-events-plugin.com//7.2.3.1//EN
TZID:Europe/Paris
X-WR-TIMEZONE:Europe/Paris
BEGIN:VEVENT
UID:53@ornenlutte.fr
DTSTART;TZID=Europe/Paris:20250613T193000
DTEND;TZID=Europe/Paris:20250613T213000
DTSTAMP:20250611T163957Z
URL:https://www.ornenlutte.fr/events/conferences-dinatoire-limmigration-in
 strumentalisee-contre-la-realite-des-migrations/
SUMMARY:Conférence - dinatoire "L'immigration instrumentalisée contre la 
 réalité des migrations"
DESCRIPTION:La Régie des Quartiers Alençonnaise en partenariat avec la li
 gue de l'enseignement organise sa première conférence dinatoire au Resta
 urant "Aux Goûts d'Ici & d'Ailleurs".\n\nConférence sur "L'immigration i
 nstrumentalisée contre la réalité des migrations "\n\nIntervenant : Eri
 c FAVEY - Co-président du conseil scientifique de la Ligue de l'Enseignem
 ent\n\nRéservation obligatoire à l’adresse mail suivante : restaurant@
 rqa61.fr ou par téléphone au 02 33 27 93 37\nTarif unique à 18€50 com
 prenant : un planche apéritive\, un plat et un dessert
ATTACH;FMTTYPE=image/jpeg:https://www.ornenlutte.fr/wp-content/uploads/202
 5/06/Conference-Eric-FAVEY_page-0001.jpg
LOCATION:Restaurant "Aux Goûts d'Ici & d'Ailleurs"\, 2 Rue Jules Michelet\
 , Alençon\, 61000\, France
X-APPLE-STRUCTURED-LOCATION;VALUE=URI;X-ADDRESS=2 Rue Jules Michelet\, Alen
 çon\, 61000\, France;X-APPLE-RADIUS=100;X-TITLE=Restaurant \"Aux Goûts d
 'Ici & d'Ailleurs\":geo:0,0
END:VEVENT
BEGIN:VTIMEZONE
TZID:Europe/Paris
X-LIC-LOCATION:Europe/Paris
BEGIN:DAYLIGHT
DTSTART:20250330T030000
TZOFFSETFROM:+0100
TZOFFSETTO:+0200
TZNAME:CEST
END:DAYLIGHT
END:VTIMEZONE
END:VCALENDAR