BEGIN:VCALENDAR
VERSION:2.0
PRODID:-//wp-events-plugin.com//7.2.3.1//EN
TZID:Europe/Paris
X-WR-TIMEZONE:Europe/Paris
BEGIN:VEVENT
UID:27@ornenlutte.fr
DTSTART;TZID=Europe/Paris:20250513T183000
DTEND;TZID=Europe/Paris:20250513T220000
DTSTAMP:20250501T131111Z
URL:https://www.ornenlutte.fr/events/conference-gesticulee-tout-travail-me
 rite-sa-laisse/
SUMMARY:Conférence gesticulée : "Tout travail mérite sa laisse"
DESCRIPTION:Réflexions poétiques et politiques sur le salariat\n\n 	Le sp
 ectacle : \nOn peut\, sans trop d’hésitation\, affirmer que le travail
  est au centre de nos vies. 67.000 heures dans une existence\, pas moins d
 e 10% de celle-ci ! Sans compter les études pour y arriver et puis toutes
  les heures de recherches pour le trouver\, celles pour s’y rendre ou en
 core pour s’en soigner. Bref\, ça pèse comme on dit !\nEt on ne vous a
 pprend rien non plus en vous disant que ce travail est loin de faire l’u
 nanimité.\nFort de ces constats pas franchement neufs\, Mojo est parti ex
 plorer ce vaste et complexe sujet. Passant en revue ses propres expérienc
 es\, de vendeur de burgers chez McDo à journaliste people en passant par 
 prof de ping-pong et maintenant poète\, il détricote pas à pas cette pe
 lote où les concepts s’entremêlent.\n 	La discussion :\nÀ la suite de
  la conférence\, Mojo anime un cercle de discussion autour de la thémati
 que du travail pour se mettre en action collectivement\, comprendre les r
 éalités multiples et instaurer un dialogue pour s’émanciper petit à 
 petit.\n 	Mojo :\nJonas\, alias Mojo\, est un artiste slameur qui a profit
 é d’un long confinement en solitaire pour affûter ses rimes et peaufin
 er ses textes. Écrivant depuis l’enfance\, il profite de cette période
  de remise en question pour prendre un nouveau départ et quitte son trava
 il pour se lancer dans cette grande aventure poétique.\nAprès une cinqua
 ntaine de dates pour son spectacle «La dernière seconde»\, il se lance 
 dans cette conférence gesticulée sur le salariat en 2025.\n\n&nbsp\;\n\n
 Déroulé de la soirée :\n\n 	18h30 : ouverture des portes\n 	19h : déb
 ut de la conférence\n 	20h30 : repas partagé (amenez un plat à part
 ager pour un moment convivial !)\n 	21h : discussion collective\, cercle
  de parole autour de la thématique du travail.\n\nSi vous voulez approfon
 dir le sujet\, voici une sélection de livres\, podcasts\, vidéos\, etc.
  sur le sujet. Vous pourrez retrouver une partie des ouvrages parmi la bi
 bliothèque mobile de Mojo.
ATTACH;FMTTYPE=image/jpeg:https://www.ornenlutte.fr/wp-content/uploads/202
 5/05/conf-travail.jpg
LOCATION:Le Chant des Arbres\, 2 rue de Lonrai\, Colombiers\, 61250\, Franc
 e
X-APPLE-STRUCTURED-LOCATION;VALUE=URI;X-ADDRESS=2 rue de Lonrai\, Colombier
 s\, 61250\, France;X-APPLE-RADIUS=100;X-TITLE=Le Chant des Arbres:geo:0,0
END:VEVENT
BEGIN:VTIMEZONE
TZID:Europe/Paris
X-LIC-LOCATION:Europe/Paris
BEGIN:DAYLIGHT
DTSTART:20250330T030000
TZOFFSETFROM:+0100
TZOFFSETTO:+0200
TZNAME:CEST
END:DAYLIGHT
END:VTIMEZONE
END:VCALENDAR