BEGIN:VCALENDAR
VERSION:2.0
PRODID:-//wp-events-plugin.com//7.2.3.1//EN
TZID:Europe/Paris
X-WR-TIMEZONE:Europe/Paris
BEGIN:VEVENT
UID:157@ornenlutte.fr
DTSTART;TZID=Europe/Paris:20260325T190000
DTEND;TZID=Europe/Paris:20260325T220000
DTSTAMP:20260305T182525Z
URL:https://www.ornenlutte.fr/events/conference-gesticulee-de-la-fourche-a
 -la-fourchette-non-linverse-securite-sociale-de-lalimentation/
SUMMARY:Conférence gesticulée\, De la fourche à la fourchette... Non\, l
 ’inverse ! Sécurité Sociale de l'Alimentation
DESCRIPTION:La SPAP se poursuit et mercredi soir\, nous allons parler alter
 natives aux pesticides ! Salle des fêtes de St-Langis-lès-Mortagne\, ve
 nez découvrir la Sécurité Sociale de l’Alimentation (SSA).\n\nTout le
  monde en parle\, mais savez-vous vraiment ce que c’est ? Cette confér
 ence gesticulée de Mathieu Dalmais un des co-fondateurs de la SSA est acc
 essible dès 13/14 ans. Elle permet de comprendre précisément  cette m
 éthode agissant sur le plan social\, agricole et écologique. A NE PAS LO
 UPER !\n\nConférence gesticulée De la fourche à la fourchette... Non\,
  l’inverse !\n\nMathieu Dalmais\, agronome militant\, présente - avec c
 hansons - les liens entre alimentation et santé. Face aux désastres du s
 ystème agroalimentaire industriel\, de nombreuses initiatives ont fleuri 
 pour produire et consommer différemment : local\, équitable\, biologique
 \, agro-écologique\, en circuits courts... Et si l'agro-industrie avait e
 n fait besoin de celles-ci ? A partir d'une analyse de leurs réussites et
  échecs\, découvrez la réflexion qui amène à une Sécurité sociale d
 e l'alimentation.\n\nBuvette et stand librairie « le Goût des Mots ».
LOCATION:Saint-Langis-les-mortagne\, SalLe des fêtes \, Saint-Langis-les-m
 ortagne\, 61400\, France
X-APPLE-STRUCTURED-LOCATION;VALUE=URI;X-ADDRESS=SalLe des fêtes \, Saint-L
 angis-les-mortagne\, 61400\, France;X-APPLE-RADIUS=100;X-TITLE=Saint-Langi
 s-les-mortagne:geo:0,0
END:VEVENT
BEGIN:VTIMEZONE
TZID:Europe/Paris
X-LIC-LOCATION:Europe/Paris
BEGIN:STANDARD
DTSTART:20251026T020000
TZOFFSETFROM:+0200
TZOFFSETTO:+0100
TZNAME:CET
END:STANDARD
END:VTIMEZONE
END:VCALENDAR