BEGIN:VCALENDAR
VERSION:2.0
PRODID:-//wp-events-plugin.com//7.2.3.1//EN
TZID:Europe/Paris
X-WR-TIMEZONE:Europe/Paris
BEGIN:VEVENT
UID:158@ornenlutte.fr
DTSTART;TZID=Europe/Paris:20260315T170000
DTEND;TZID=Europe/Paris:20260315T190000
DTSTAMP:20260305T182442Z
URL:https://www.ornenlutte.fr/events/cine-rencontre-soulevements/
SUMMARY:Ciné-rencontre : "Soulèvements"
DESCRIPTION:La projection sera suivie d'un échange avec un intervenant du 
 Comité 61 des Soulèvements de la Terre\n\nSoulèvements : (1 heure 45) 
 film français réalisé par Thomas Lacoste.\n\nUn portrait choral à 16 v
 oix\, 16 trajectoires singulières\, réflexif et intime d’un mouvement 
 de résistance intergénérationnel porté par une jeunesse qui vit et qui
  lutte contre l’accaparement des terres et de l’eau\, les ravages indu
 striels\, la montée des totalitarismes et fait face à la répression pol
 itique. Une plongée au cœur des Soulèvements de la Terre révélant la 
 composition inédite des forces multiples déployées un peu partout dans 
 le pays qui expérimentent d’autres modes de vie\, tissent de nouveaux l
 iens avec le vivant\, bouleversant ainsi les découpages établis du polit
 ique et du sensible en nous ouvrant au champ de tous les possibles.\n\nA
 vec Soulèvements\, Thomas Lacoste en est à son huitième long métrage\
 , tous des documentaires dont Notre monde en 2012 et L'hypothèse démoc
 ratique en 2021. Un film nécessaire qui rend compte de l’humanité et 
 de la sensibilité au vivant. Au-delà de l’engagement et des prises de 
 position\, le réalisateur a réussi à capter l’esthétisme singulier d
 e ces espaces naturels mais aussi de ces visages d’une sincérité émou
 vante. A retenir ! Un échange animé par un intervenant du Comité 61 des
  Soulèvements de la terre suivra la projection du film.\n\nSalle accessib
 le aux personnes en situation de handicap
ATTACH;FMTTYPE=image/jpeg:https://www.ornenlutte.fr/wp-content/uploads/202
 6/03/Soulevements-Le-Mele-sur-Sarthe.jpg
LOCATION:Salle Daniel Rouault\, 46 Grande rue\, Le Mêle-sur-Sarthe\, 61170
 \, France
X-APPLE-STRUCTURED-LOCATION;VALUE=URI;X-ADDRESS=46 Grande rue\, Le Mêle-su
 r-Sarthe\, 61170\, France;X-APPLE-RADIUS=100;X-TITLE=Salle Daniel Rouault:
 geo:0,0
END:VEVENT
BEGIN:VTIMEZONE
TZID:Europe/Paris
X-LIC-LOCATION:Europe/Paris
BEGIN:STANDARD
DTSTART:20251026T020000
TZOFFSETFROM:+0200
TZOFFSETTO:+0100
TZNAME:CET
END:STANDARD
END:VTIMEZONE
END:VCALENDAR