BEGIN:VCALENDAR
VERSION:2.0
PRODID:-//wp-events-plugin.com//7.2.3.1//EN
TZID:Europe/Paris
X-WR-TIMEZONE:Europe/Paris
BEGIN:VEVENT
UID:31@ornenlutte.fr
DTSTART;TZID=Europe/Paris:20250608T173000
DTEND;TZID=Europe/Paris:20250608T223000
DTSTAMP:20250508T144714Z
URL:https://www.ornenlutte.fr/events/cine-rencontre-les-doleances/
SUMMARY:Ciné rencontre Les Doléances
DESCRIPTION:Projection du documentaire « Les Doléances » sur les cahie
 rs de doléances des gilets jaunes. \n\nSouvenez-vous… Pendant la crise 
 des Gilets Jaunes\, Emmanuel Macron lançait l’ouverture du Grand Débat
  National\, et enjoignait les maires à ouvrir\, dans chaque mairie\, un c
 ahier de Doléances. Un exercice de démocratie directe qui n’avait pas 
 été pratiqué depuis 1789. Un succès ! 19 899 cahiers\, plus de 200 000
  contributions rédigées à la main.\n\nUn trésor National mais aussi un
 e promesse démocratique non tenue. Ces textes éminemment politiques n’
 ont jamais été publiés par les gouvernements successifs.\n\nLa projecti
 on sera suivie de la présentation d’Etienne Walker\, maître de confér
 ence à Alençon.\n
ATTACH;FMTTYPE=image/jpeg:https://www.ornenlutte.fr/wp-content/uploads/202
 5/05/384B2579-3F62-47EB-ADD9-CDD0E8026684.jpeg
LOCATION:Val au perche\, Cinéma le St Louis\, Val-au-Perche\, 61130\, Fran
 ce
X-APPLE-STRUCTURED-LOCATION;VALUE=URI;X-ADDRESS=Cinéma le St Louis\, Val-a
 u-Perche\, 61130\, France;X-APPLE-RADIUS=100;X-TITLE=Val au perche:geo:0,0
END:VEVENT
BEGIN:VTIMEZONE
TZID:Europe/Paris
X-LIC-LOCATION:Europe/Paris
BEGIN:DAYLIGHT
DTSTART:20250330T030000
TZOFFSETFROM:+0100
TZOFFSETTO:+0200
TZNAME:CEST
END:DAYLIGHT
END:VTIMEZONE
END:VCALENDAR