BEGIN:VCALENDAR
VERSION:2.0
PRODID:-//wp-events-plugin.com//7.2.3.1//EN
TZID:Europe/Paris
X-WR-TIMEZONE:Europe/Paris
BEGIN:VEVENT
UID:156@ornenlutte.fr
DTSTART;TZID=Europe/Paris:20260322T173000
DTEND;TZID=Europe/Paris:20260322T200000
DTSTAMP:20260305T182502Z
URL:https://www.ornenlutte.fr/events/cine-debat-antilles-empoisonnees-avec
 -le-coaadep-et-cancer-colere/
SUMMARY:Ciné-débat\, Antilles empoisonnées avec le COAADEP et Cancer Col
 ère
DESCRIPTION:Le film de Nicolas Glimois raconte l’un des plus grands scand
 ales écologiques et sanitaires français. A partir de 1972\, le chlordéc
 one a contaminé l'eau\, les sols et tous les habitants de Martinique et d
 e Guadeloupe... pour protéger la banane\, fleuron de l'économie locale.\
 nA l’issue de la projection\, échange avec les représentants de deux c
 ollectifs nationaux : Cancer Colère et le Collectif des Ouvriers Agricol
 es et de leurs Ayants Droits Empoisonnés par les Pesticides (COAADEP). 
  \n\nVenez nombreux\, pour mieux connaître leurs mouvements et soutenir 
 leur engagement contre cette agriculture mortifère qui nous empoisonne. N
 ous partagerons un apéro avec eux à l’issue de la séance grâce à la
  cantine du Perche \;)\n\nAccessible PMR
ATTACH;FMTTYPE=image/jpeg:https://www.ornenlutte.fr/wp-content/uploads/202
 6/03/Les-Antilles-empoisonnees-affiche.jpg
LOCATION:Le theil sur Huisne\, cinéma\, Le theil sur Huisne\, 61260\, Fran
 ce
X-APPLE-STRUCTURED-LOCATION;VALUE=URI;X-ADDRESS=cinéma\, Le theil sur Huis
 ne\, 61260\, France;X-APPLE-RADIUS=100;X-TITLE=Le theil sur Huisne:geo:0,0
END:VEVENT
BEGIN:VTIMEZONE
TZID:Europe/Paris
X-LIC-LOCATION:Europe/Paris
BEGIN:STANDARD
DTSTART:20251026T020000
TZOFFSETFROM:+0200
TZOFFSETTO:+0100
TZNAME:CET
END:STANDARD
END:VTIMEZONE
END:VCALENDAR