BEGIN:VCALENDAR
VERSION:2.0
PRODID:-//wp-events-plugin.com//7.2.3.1//EN
TZID:Europe/Paris
X-WR-TIMEZONE:Europe/Paris
BEGIN:VEVENT
UID:60@ornenlutte.fr
DTSTART;TZID=Europe/Paris:20250901T180000
DTEND;TZID=Europe/Paris:20250901T200000
DTSTAMP:20250827T100055Z
URL:https://www.ornenlutte.fr/events/bloquons-tout/
SUMMARY:Assemblée Générale - Bloquons tout
DESCRIPTION:Assemblée Générale "Bloquons tout" pour préparer le 10 sept
 embre 18h Pyramide Alençon. Plus d'infos sur le visuel
ATTACH;FMTTYPE=image/jpeg:https://www.ornenlutte.fr/wp-content/uploads/202
 5/08/3-V2-pdf.jpg
LOCATION:Pyramide\, Rond-Point de la Pyramide\, Alençon\, 61000\, France
X-APPLE-STRUCTURED-LOCATION;VALUE=URI;X-ADDRESS=Rond-Point de la Pyramide\,
  Alençon\, 61000\, France;X-APPLE-RADIUS=100;X-TITLE=Pyramide:geo:0,0
END:VEVENT
BEGIN:VTIMEZONE
TZID:Europe/Paris
X-LIC-LOCATION:Europe/Paris
BEGIN:DAYLIGHT
DTSTART:20250330T030000
TZOFFSETFROM:+0100
TZOFFSETTO:+0200
TZNAME:CEST
END:DAYLIGHT
END:VTIMEZONE
END:VCALENDAR