BEGIN:VCALENDAR
VERSION:2.0
PRODID:-//wp-events-plugin.com//7.2.3.1//EN
TZID:Europe/Paris
X-WR-TIMEZONE:Europe/Paris
BEGIN:VEVENT
UID:22@ornenlutte.fr
DTSTART;TZID=Europe/Paris:20250515T183000
DTEND;TZID=Europe/Paris:20250515T193000
DTSTAMP:20250510T123111Z
URL:https://www.ornenlutte.fr/events/anniversaire-de-la-nakba/
SUMMARY:Anniversaire de la Nakba
DESCRIPTION:Nous commémorons par un rassemblement l’expulsion et l’exo
 de des 800 000 palestiniens en 1948 suite à la création de l’État d
 ’Israël.
ATTACH;FMTTYPE=image/jpeg:https://www.ornenlutte.fr/wp-content/uploads/202
 5/04/1000010298-vrai.jpg
LOCATION:place de la paix\, Perseigne\, Alençon\, Place de la paix \, Alen
 çon \, 61 000\, France
X-APPLE-STRUCTURED-LOCATION;VALUE=URI;X-ADDRESS=Place de la paix \, Alenço
 n \, 61 000\, France;X-APPLE-RADIUS=100;X-TITLE=place de la paix\, Perseig
 ne\, Alençon:geo:0,0
END:VEVENT
BEGIN:VTIMEZONE
TZID:Europe/Paris
X-LIC-LOCATION:Europe/Paris
BEGIN:DAYLIGHT
DTSTART:20250330T030000
TZOFFSETFROM:+0100
TZOFFSETTO:+0200
TZNAME:CEST
END:DAYLIGHT
END:VTIMEZONE
END:VCALENDAR