BEGIN:VCALENDAR
VERSION:2.0
PRODID:-//wp-events-plugin.com//7.2.3.1//EN
TZID:Europe/Paris
X-WR-TIMEZONE:Europe/Paris
BEGIN:VEVENT
UID:64@ornenlutte.fr
DTSTART;TZID=Europe/Paris:20250928T143000
DTEND;TZID=Europe/Paris:20250928T183000
DTSTAMP:20250903T104055Z
URL:https://www.ornenlutte.fr/events/adoptions-des-histoires-a-politiser-s
 pectacle-table-ronde-dedicace/
SUMMARY:Adoptions : des histoires à politiser // Spectacle // Table ronde 
 // Dédicace
DESCRIPTION:La Collective Féministe du Perche organise une rencontre-spect
 acle sur le thème de l’adoption transraciale.\n\nPour l'occasion\, nous
  aurons la chance d'accueillir Amandine Gay de passage en France pour la s
 ortie de son nouveau livre « Vivre libre\, exister au coeur de la supré
 matie blanche ».\n\nLE PROGRAMME :\n•15h00 Spectacle « A MAL\, la ba
 tarde post-coloniale » par la Compagnie Transtopie\nDuo Musique Voix pa
 r Malou Estenne et Laura Zylberyng \nA MAL est une quête identitaire sla
 mmée qui raconte l'histoire autobiographique d'un abandon.\nPlus de déta
 ils sur le site de la Compagnie Transtopie\n• 16h00 Table ronde : « A
 doption transraciale\, antiracisme et féminisme »\nAvec la participatio
 n d’Amandine Gay\, Malou Estenne et Jayani Petry\nAnimée par Margaux Ri
 quet \nComprendre comment l’adoption transraciale cristallise de nombreu
 x enjeux politiques et pourquoi un changement social est aujourd’hui né
 cessaire. En 1ère partie\, l’autrice Amandine Gay partagera les princip
 ales clés d’analyses développées dans ses œuvres. La 2nde partie per
 mettra de croiser les regards des 3 intervenantes aux trajectoires d’ém
 ancipation inspirantes.\n• 17h45 : dédicace des livres d’Amandine Ga
 y\nAmandine Gay est réalisatrice\, productrice\, autrice\, activiste\, el
 le partage son temps entre recherche et création. Elle porte aujourd'hui 
 une parole précieuse sur l'afroféminisme\, les industries culturelles\, 
 l’intersectionnalité ou l’adoption. "Ouvrir La Voix"\, son 1er film e
 n 2017 donne la parole à vingt-quatre femmes afro-descendantes francophon
 es \; Elle réalise en 2021 un 2nd documentaire\, "Une Histoire à Soi". C
 e film d’archives présente l’adoption internationale du point de vue 
 de 5 personnes adoptées\, aujourd’hui adultes. En 2021\, elle publie é
 galement l’ouvrage « Une poupée en chocolat » un plaidoyer saisissant
  proposant de politiser l’adoption\, de repenser les concepts de la fami
 lle et de filiation\, et par-là même la reconstruction de nos identités
 . Dans son dernier ouvrage "Vivre Libre\, Exister au coeur de la suprém
 atie blanche "\, elle décortique les mécanismes de la domination raciale
  et de sa perpétuation et trace ainsi des voies libératrices.\n*** Séle
 ction de livres proposée par la Librairie Un autre Pays ***\n&nbsp\;\n\n-
  RENDEZ-VOUS à la salle Octave Mirbeau de Rémalard-en-Perche\n\n- Accuei
 l du public et buvette à partir de 14h30 - \n\n- Entrée libre\, caisse d
 e soutien à l'association -\n
ATTACH;FMTTYPE=image/jpeg:https://www.ornenlutte.fr/wp-content/uploads/202
 5/09/Flyer-recto-version-imprimeur.png
LOCATION:Salle Octave Mirbeau\, Place du champ de foire\, Rémalard en Perc
 he\, France
X-APPLE-STRUCTURED-LOCATION;VALUE=URI;X-ADDRESS=Place du champ de foire\, R
 émalard en Perche\, France;X-APPLE-RADIUS=100;X-TITLE=Salle Octave Mirbea
 u:geo:0,0
END:VEVENT
BEGIN:VTIMEZONE
TZID:Europe/Paris
X-LIC-LOCATION:Europe/Paris
BEGIN:DAYLIGHT
DTSTART:20250330T030000
TZOFFSETFROM:+0100
TZOFFSETTO:+0200
TZNAME:CEST
END:DAYLIGHT
END:VTIMEZONE
END:VCALENDAR