BEGIN:VCALENDAR
VERSION:2.0
PRODID:-//wp-events-plugin.com//7.2.3.1//EN
TZID:Europe/Paris
X-WR-TIMEZONE:Europe/Paris
BEGIN:VEVENT
UID:46@ornenlutte.fr
DTSTART;TZID=Europe/Paris;VALUE=DATE:20251004
DTEND;TZID=Europe/Paris;VALUE=DATE:20251005
DTSTAMP:20250606T132620Z
URL:https://www.ornenlutte.fr/events/__trashed-3/
SUMMARY:LadyFest d'Alençon
DESCRIPTION:LADYFEST d'Alençon\n\nUn festival QUEER Féministe dans l'Orne
 \n Le Ladyfest\, c’est un peu un mix entre un festival de musique\, de s
 pectacles et d'ateliers. Tout en étant bien plus que ça. Au total\, vous
  aurez deux jours pour apprécier des écrivaines\, des spectacles\, des c
 oncerts\, des ateliers\, des tables rondes\, des conférences\, des projec
 tions\, des expos\, et des associations présentes ! \nTout se passe le 4 
 octobre 2025 à Chapêlmêle\, le tiers lieu préféré des Alençonnais !
  
ATTACH;FMTTYPE=image/jpeg:https://www.ornenlutte.fr/wp-content/uploads/202
 5/06/Affiche-lady-fest.png
LOCATION:chapêlmêle\, 41 chemin des châtelets\, Alençon\, 61000\, Franc
 e
X-APPLE-STRUCTURED-LOCATION;VALUE=URI;X-ADDRESS=41 chemin des châtelets\, 
 Alençon\, 61000\, France;X-APPLE-RADIUS=100;X-TITLE=chapêlmêle:geo:0,0
END:VEVENT
BEGIN:VTIMEZONE
TZID:Europe/Paris
X-LIC-LOCATION:Europe/Paris
BEGIN:DAYLIGHT
DTSTART:20250330T030000
TZOFFSETFROM:+0100
TZOFFSETTO:+0200
TZNAME:CEST
END:DAYLIGHT
END:VTIMEZONE
END:VCALENDAR