BEGIN:VCALENDAR
VERSION:2.0
PRODID:-//wp-events-plugin.com//7.2.3.1//EN
TZID:Europe/Paris
X-WR-TIMEZONE:Europe/Paris
BEGIN:VEVENT
UID:67@ornenlutte.fr
DTSTART;TZID=Europe/Paris:20250910T050000
DTEND;TZID=Europe/Paris:20250910T234500
DTSTAMP:20250909T064954Z
URL:https://www.ornenlutte.fr/events/10-septembre-2025-alencon-bloquons-to
 ut/
SUMMARY:10 septembre 2025 - Alençon - Bloquons tout
DESCRIPTION:A partir de 5 h du matin et toute la journée.\n\nRond-point d'
 Anova (près de La luciole et du cinéma).
ATTACH;FMTTYPE=image/jpeg:https://www.ornenlutte.fr/wp-content/uploads/202
 5/09/10SEPT-ALENCON-bloquons-tout.jpg
LOCATION:Rond-point d'Anova\, 171 rue de Bretagne\, Alençon\, 61000\, Fran
 ce
X-APPLE-STRUCTURED-LOCATION;VALUE=URI;X-ADDRESS=171 rue de Bretagne\, Alen
 çon\, 61000\, France;X-APPLE-RADIUS=100;X-TITLE=Rond-point d'Anova:geo:0,
 0
END:VEVENT
BEGIN:VTIMEZONE
TZID:Europe/Paris
X-LIC-LOCATION:Europe/Paris
BEGIN:DAYLIGHT
DTSTART:20250330T030000
TZOFFSETFROM:+0100
TZOFFSETTO:+0200
TZNAME:CEST
END:DAYLIGHT
END:VTIMEZONE
END:VCALENDAR